BEGIN:VCALENDAR
VERSION:2.0
PRODID:-//Bartók Kamaraszínház Dunaújváros - ECPv5.8.2//NONSGML v1.0//EN
CALSCALE:GREGORIAN
METHOD:PUBLISH
X-WR-CALNAME:Bartók Kamaraszínház Dunaújváros
X-ORIGINAL-URL:https://bartokszinhaz.hu
X-WR-CALDESC:Events for Bartók Kamaraszínház Dunaújváros
BEGIN:VTIMEZONE
TZID:UTC
BEGIN:STANDARD
TZOFFSETFROM:+0000
TZOFFSETTO:+0000
TZNAME:UTC
DTSTART:20260101T000000
END:STANDARD
END:VTIMEZONE
BEGIN:VEVENT
DTSTART;TZID=UTC:20260115T190000
DTEND;TZID=UTC:20260115T220000
DTSTAMP:20260424T061938
CREATED:20251202T095851Z
LAST-MODIFIED:20260115T120341Z
UID:21382-1768503600-1768514400@bartokszinhaz.hu
SUMMARY:19:00 – Agatha Christie: Az Ackroyd-gyilkosság / krimi / Veres 1 Színház vendégjátéka
DESCRIPTION:Agatha Christie\nAz Ackroyd-gyilkosság\nkrimi\nAgatha Christie regényét színpadra adaptálta Mark Shanahan \nA legendás belga nyomozó\, Hercule Poirot nyugdíjba vonul\, és a békés King’s Abbott faluba költözik. Ám alighogy megérkezik\, két rejtélyes haláleset borzolja fel a csendes vidéket. A rendőrség tehetetlen\, ezért Poirot – nyugalmazott évei ellenére – újra nyomozásba kezd. Segítőtársa a helyi orvos\, Dr. James Sheppard\, akivel együtt derít fényt egy váratlan és megdöbbentő igazságra. \n. \nA MAI SZEREPOSZTÁS:  \nHercule Poirot – KÁLID ARTÚR\nRalph Paton – OLÁH BÉLA\nDr. James Sheppard – SZABÓ P. SZILVESZTER\nCaroline Sheppard – ZORGEL ENIKŐ\nHector Blunt őrnagy – SIMON KORNÉL\nHelen Russell – MOLNÁR GYÖNGYI\nFlora Ackroyd – GÁSPÁRFALVI DORKA\nUrsula Bourne – MIKLÓS KRISZTA\nParker – JANIK LÁSZLÓ\nGertrude Ackroyd – FÉSŰS NELLY\nRaglan felügyelő – PÁSZTOR TIBOR\nRoger Ackroyd – VENYIGE SÁNDOR\n. \nALKOTÓK: \nFordította: Galambos Attila\nSúgó: Paku Éva\nRendezőasszisztens: Páli Veronika\nDíszlettervező: Bátonyi György\nJelmeztervező: Papp Janó\nZene: Remete Marcell\nRendező: Simon Kornél\n. \nHelyszín: Színházterem   \nAz előadás időtartama: 165 perc egy szünettel \nJegyár: 7500 Ft \n\n\n \n. \nAz előadás a KARNEVÁL BÉRLET előadása. \nA bérletről bővebben olvashatnak ITT.\n<< ONLINE BÉRLETVÁSÁRLÁS >>\n\n\n\n\n\n \n.\nFotók: \nA Veres 1  Színház oldaláról származnak\n\n		\n		\n			\n				\n			\n			\n				\n			\n			\n				\n			\n			\n				\n			\n		\n\n.\n A műsor- és jegyárváltozás jogát fenntartjuk. \n_______________________________________________________________________________________________________________\n.\nÁLTALÁNOS TÁJÉKOZTATÓ:\nAz adott napi előadásra a kezdés előtti egy órában is vásárolhatnak jegyet a szabad helyek függvényében!\nA lefoglalt jegyeket a foglalástól számított két héten belül kérjük átvenni. Az át nem vett jegyeket felszabadítjuk!\nA későn érkező nézők csak a szünetben foglalhatják el helyüket.\nAz előadások ideje alatt mobiltelefonjaikat tartsák kikapcsolt állapotban!\nAz előadásokon kép- és hangfelvétel készítése engedély nélkül tilos!\nKérjük\, a nézőtéren mellőzék az étel és ital fogyasztást!.\n_______________________________________________________________________________________________________________
URL:https://bartokszinhaz.hu/esemeny/1900-agatha-christie-az-ackroyd-gyilkossag-krimi-veres-1-szinhaz-vendegjateka/
LOCATION:Színházterem
CATEGORIES:felnőtt előadás,vendégjáték
ORGANIZER;CN="Bart%C3%B3k%20Szervez%C3%A9s":MAILTO:szervezes@bartokszinhaz.hu
END:VEVENT
END:VCALENDAR