BEGIN:VCALENDAR
VERSION:2.0
PRODID:-//Bartók Kamaraszínház Dunaújváros - ECPv5.8.2//NONSGML v1.0//EN
CALSCALE:GREGORIAN
METHOD:PUBLISH
X-WR-CALNAME:Bartók Kamaraszínház Dunaújváros
X-ORIGINAL-URL:https://bartokszinhaz.hu
X-WR-CALDESC:Events for Bartók Kamaraszínház Dunaújváros
BEGIN:VTIMEZONE
TZID:UTC
BEGIN:STANDARD
TZOFFSETFROM:+0000
TZOFFSETTO:+0000
TZNAME:UTC
DTSTART:20260101T000000
END:STANDARD
END:VTIMEZONE
BEGIN:VEVENT
DTSTART;TZID=UTC:20260129T190000
DTEND;TZID=UTC:20260129T210000
DTSTAMP:20260424T061447
CREATED:20251202T095742Z
LAST-MODIFIED:20260129T095347Z
UID:21365-1769713200-1769720400@bartokszinhaz.hu
SUMMARY:19:00 – Kölcsönlakás / vígjáték / Kecskeméti Katona József Nemzeti Színház vendégjátéka
DESCRIPTION:Ray Cooney – John Chapman\nKölcsönlakás\nvígjáték\nFordította: Hamvai Kornél\nÁtdolgozta: Búss Gábor Olivér \n\nA Kölcsönlakás egy fergeteges brit komédia\, tele félreértésekkel\, titkos afférokkal és őrült helyzetekkel. Amikor Henry kölcsönkéri barátja lakását egy titkos randevúhoz\, elszabadul a káosz: mindenki ugyanarra a lakásra tart igényt – más-más okból. A félreértések lavinája megállíthatatlan\, a helyzetkomikum pedig garantált. Cooney és Chapman vígjátéka sziporkázó humorral és pergő tempóval biztosít egy felejthetetlen\, nevetéssel teli estét.  \n A színdarab Magyarországon a WEST END THEATRE AGENCY Kft. közvetítésével kerül színre.. \n  \nA MAI SZEREPOSZTÁS:  \nPhilip Markham: Kovács Lehel\nJohanna Markham: Bori Réka\nHenry Lodge: Varga-Huszti Máté\nLinda Lodge: Kovács Panka\nAlistair Spenlow: Orth Péter\nSylvie: Venczli Zóra\nTristan Pangbourne: Mechle Christian\nMiss Cook: Danyi Judit\nMiss Wilkinson: Varga Lotti\n. \nALKOTÓK: \nDíszlettervező: Horgas Péter\nJelmeztervező: Kovács Yvette Alida\nSúgó: Ba Éva\nÜgyelő: Patyi Szilvia\nRendezőasszisztens: Sirkó Anna\nRendező: Kapitány Iván\n. \nHelyszín: Színházterem   \nAz előadás időtartama: 120 perc egy szünettel \nJegyár: 7500 Ft \n\n\n \n. \n. \nAz előadás a KARNEVÁL BÉRLET előadása. \nA bérletről bővebben olvashatnak ITT.\n<< ONLINE BÉRLETVÁSÁRLÁS >>\n\n\n\n\n\n \n.\nFotók: \nA Kecskeméti Katona József Nemzeti Színház oldaláról származnak\n.\n\n		\n		\n			\n				\n			\n			\n				\n			\n			\n				\n			\n			\n				\n			\n		\n\n A műsor- és jegyárváltozás jogát fenntartjuk. \n_______________________________________________________________________________________________________________\n.\nÁLTALÁNOS TÁJÉKOZTATÓ:\nAz adott napi előadásra a kezdés előtti egy órában is vásárolhatnak jegyet a szabad helyek függvényében!\nA lefoglalt jegyeket a foglalástól számított EGY héten belül kérjük átvenni\, az át nem vett jegyeket felszabadítjuk!\nA későn érkező nézők csak a szünetben foglalhatják el helyüket.\nAz előadások ideje alatt mobiltelefonjaikat tartsák kikapcsolt állapotban!\nAz előadásokon kép- és hangfelvétel készítése engedély nélkül TILOS!\nA nézőtérre ételt és italt bevinni TILOS! \nRuhatárunk ingyenes\, használata kötelező!\n_______________________________________________________________________________________________________________
URL:https://bartokszinhaz.hu/esemeny/1900-kolcsonlakas-vigjatek-kecskemeti-katona-jozsef-nemzeti-szinhaz-vendegjateka/
LOCATION:Színházterem
CATEGORIES:felnőtt előadás,vendégjáték
ORGANIZER;CN="Bart%C3%B3k%20Szervez%C3%A9s":MAILTO:szervezes@bartokszinhaz.hu
END:VEVENT
END:VCALENDAR