BEGIN:VCALENDAR
VERSION:2.0
PRODID:-//Bartók Kamaraszínház Dunaújváros - ECPv5.8.2//NONSGML v1.0//EN
CALSCALE:GREGORIAN
METHOD:PUBLISH
X-WR-CALNAME:Bartók Kamaraszínház Dunaújváros
X-ORIGINAL-URL:https://bartokszinhaz.hu
X-WR-CALDESC:Events for Bartók Kamaraszínház Dunaújváros
BEGIN:VTIMEZONE
TZID:UTC
BEGIN:STANDARD
TZOFFSETFROM:+0000
TZOFFSETTO:+0000
TZNAME:UTC
DTSTART:20260101T000000
END:STANDARD
END:VTIMEZONE
BEGIN:VEVENT
DTSTART;TZID=UTC:20260212T190000
DTEND;TZID=UTC:20260212T210000
DTSTAMP:20260424T202005
CREATED:20251202T092654Z
LAST-MODIFIED:20260216T083738Z
UID:21349-1770922800-1770930000@bartokszinhaz.hu
SUMMARY:19:00 – Laurent Baffie: LÖKÖTTEK / komédia / Karinthy Színház vendégjátéka
DESCRIPTION:Laurent Baffie\nLököttek\nkomédia\nEgy pszichológus várószobájában összegyűlik hat ember. Kiderül\, hogy mind egyszerre kaptak időpontot a neves szaktekintélyhez\, aki késik. A hosszas várakozás alatt a páciensek beszédbe elegyednek egymással\, előkerül egy Monopoly és spontán csoportterápia szerveződik… \nLaurent Baffie fergeteges komédiáját óriási sikerrel játsszák Franciaországban és világszerte.  \nFigyelem: Az előadásban a nyugalom megzavarására alkalmas szókimondó kifejezések hangzanak el!!! \n. \nA MAI SZEREPOSZTÁS:  \nFred: Papp János\nVincent: Marton Róbert\nBlanche: Balázs Andrea\nMarie: Pápai Erika\nLili: Kovács Vecei Fanni\nBob: Karácsony Gergely\nOrvosi asszisztens: Dobra Mara\n. \nALKOTÓK: \nDíszlettervező: Bujdosó Nóra\nJelmeztervező: Cselényi Nóra\nDramaturg: Perczel Enikő\nRendezőasszisztens: Mészáros Csilla\nRendező: Kelemen József\n. \nHelyszín: Színházterem   \nAz előadás időtartama: 120 perc egy szünettel \nJegyár: 7500 Ft \n\n\n \n. \nAz előadás a KARNEVÁL BÉRLET előadása. \nA bérletről bővebben olvashatnak ITT.\n<< ONLINE BÉRLETVÁSÁRLÁS >>\n\n\n\n\n\n\n \n.\nFotók: \nA Karinthy Színház oldaláról származnak\n\n		\n		\n			\n				\n			\n			\n				\n			\n			\n				\n			\n			\n				\n			\n		\n\n.\n\n A műsor- és jegyárváltozás jogát fenntartjuk. \n_______________________________________________________________________________________________________________\n.\nÁLTALÁNOS TÁJÉKOZTATÓ:\nAz adott napi előadásra a kezdés előtti egy órában is vásárolhatnak jegyet a szabad helyek függvényében!\nA lefoglalt jegyeket a foglalástól számított EGY héten belül kérjük átvenni\, az át nem vett jegyeket felszabadítjuk!\nA későn érkező nézők csak a szünetben foglalhatják el helyüket.\nAz előadások ideje alatt mobiltelefonjaikat tartsák kikapcsolt állapotban!\nAz előadásokon kép- és hangfelvétel készítése engedély nélkül TILOS!\nA nézőtérre ételt és italt bevinni TILOS! \nRuhatárunk ingyenes\, használata kötelező!\n_______________________________________________________________________________________________________________
URL:https://bartokszinhaz.hu/esemeny/1900-laurent-baffie-lokottek-komedia-karinthy-szinhaz-vendegjateka/
LOCATION:Színházterem
CATEGORIES:felnőtt előadás,vendégjáték
ORGANIZER;CN="Bart%C3%B3k%20Szervez%C3%A9s":MAILTO:szervezes@bartokszinhaz.hu
END:VEVENT
END:VCALENDAR