BEGIN:VCALENDAR
VERSION:2.0
PRODID:-//Bartók Kamaraszínház Dunaújváros - ECPv5.8.2//NONSGML v1.0//EN
CALSCALE:GREGORIAN
METHOD:PUBLISH
X-WR-CALNAME:Bartók Kamaraszínház Dunaújváros
X-ORIGINAL-URL:https://bartokszinhaz.hu
X-WR-CALDESC:Events for Bartók Kamaraszínház Dunaújváros
BEGIN:VTIMEZONE
TZID:UTC
BEGIN:STANDARD
TZOFFSETFROM:+0000
TZOFFSETTO:+0000
TZNAME:UTC
DTSTART:20260101T000000
END:STANDARD
END:VTIMEZONE
BEGIN:VEVENT
DTSTART;TZID=UTC:20260605T170000
DTEND;TZID=UTC:20260605T182000
DTSTAMP:20260424T180650
CREATED:20260424T073126Z
LAST-MODIFIED:20260424T073126Z
UID:91911-1780678800-1780683600@bartokszinhaz.hu
SUMMARY:17.00 – Nyitrai László\, Máthé Zsolt: AZ IGAZI NŐ / Vörösmarty Színház / MIKRO Fesztivál 2026.
DESCRIPTION:Helyszín: Stúdióterem\nAz előadás időtartama: 90 perc szünet nélkül\nJegyár: 7000 Ft\nNyitrai László – Máthé Zsolt\nAZ IGAZI NŐ\n– monomusical –\nA Vörösmarty Színház előadása\nMi történik\, amikor egy nő végre önmagát választja?\nMonomusical\, amely egy nő belső kálváriájába enged betekintést. Hétköznapi helyzeteken keresztül tárul fel mindaz\, amit sokan elhallgatunk: megfelelési kényszer\, bizonytalanság\, vágyak és elfojtott ösztönök. A főszereplő hol gyermeki és naivan bizakodó\, hol határozott és szenvedélyes – ahogyan mindannyian.\nEz az előadás nem tanít és nem ítélkezik. Csak tükröt tart.\nNevettet\, megrendít\, felismeréseket hoz.\nAmikor a nő végül önmagát választja\, megszületik az igaz ember – és felébred az igazi nő.\nEgy történet mindazoknak\, akik már érezték: ideje önmagukhoz hazaérni.\nA musicalben Kiss Diána Magdolna vall önismeretről és szerelemről.\n\n\nSzereplők:\nDia: Kiss Diána Magdolna\nZongorista: Réti Anikó\n.\nAlkotók:\nJelmeztervező: Szarvas Valentin\nDíszlettervező: Kondákor Tamás\nProdukciós asszisztens/súgó/ügyelő: Soltész Rita\nRendező: Kondákor Ajsa Panka\n \n. \n \nA fotók a színház oldaláról származnak:\n\n		\n		\n			\n				\n			\n			\n				\n			\n			\n				\n			\n			\n				\n			\n			\n				\n			\n			\n		\n\n  \n____________________________________________________________________________________________________________ \nMIKROFESZTIVÁL JEGYÁRKEDVEZMÉNY! \nSzabadon választott 5 felnőtt előadás ára: 32.500 Ft\nAz összes felnőtt előadás (10 előadás) megvásárlása esetén az ár: 63.000 Ft\n\n______________________________________________________________________________________________________________________________________________________________________________ \nA kedvezmények csak jegypénztárunkban vehetők igénybe\, online vásárlás esetén NEM! \n A műsorváltozás jogát fenntartjuk. \n \n\nMegvalósult a Nemzeti Kulturális Alap támogatásával\n_______________________________________________________________________________________________________________\n.\nÁLTALÁNOS TÁJÉKOZTATÓ:\nAz adott napi előadásra a kezdés előtti egy órában is vásárolhatnak jegyet a szabad helyek függvényében!\nA lefoglalt jegyeket a foglalástól számított két héten belül kérjük átvenni. Az át nem vett jegyeket felszabadítjuk!\nA későn érkező nézők csak a szünetben foglalhatják el helyüket.\nAz előadások ideje alatt mobiltelefonjaikat tartsák kikapcsolt állapotban!\nAz előadásokon kép- és hangfelvétel készítése engedély nélkül tilos!\nKérjük\, a nézőtéren mellőzék az étel és ital fogyasztást!.\n_______________________________________________________________________________________________________________
URL:https://bartokszinhaz.hu/esemeny/az-igazi-no/
LOCATION:Stúdióterem
CATEGORIES:mikrofesztivál,vendégjáték
ORGANIZER;CN="Bart%C3%B3k%20Szervez%C3%A9s":MAILTO:szervezes@bartokszinhaz.hu
END:VEVENT
END:VCALENDAR