BEGIN:VCALENDAR
VERSION:2.0
PRODID:-//Bartók Kamaraszínház Dunaújváros - ECPv5.8.2//NONSGML v1.0//EN
CALSCALE:GREGORIAN
METHOD:PUBLISH
X-WR-CALNAME:Bartók Kamaraszínház Dunaújváros
X-ORIGINAL-URL:https://bartokszinhaz.hu
X-WR-CALDESC:Events for Bartók Kamaraszínház Dunaújváros
BEGIN:VTIMEZONE
TZID:UTC
BEGIN:STANDARD
TZOFFSETFROM:+0000
TZOFFSETTO:+0000
TZNAME:UTC
DTSTART:20260101T000000
END:STANDARD
END:VTIMEZONE
BEGIN:VEVENT
DTSTART;TZID=UTC:20260606T193000
DTEND;TZID=UTC:20260606T210000
DTSTAMP:20260424T180650
CREATED:20260424T073053Z
LAST-MODIFIED:20260424T073053Z
UID:91905-1780774200-1780779600@bartokszinhaz.hu
SUMMARY:19.30 – ÉN\, ZSA ZSA / Spinoza Színház / MIKRO Fesztivál 2026.
DESCRIPTION:Helyszín: Színházterem stúdióelrendezés\nAz előadás időtartama: 90 perc szünet nélkül\nJegyár: 7000 Ft\nÉN\, ZSA ZSA\nA Spinoza Színház előadása\n  \nGábor ZsaZsáról (eredeti nevén Gábor Sári) szinte mindenki tud mindent. Tudjuk\, hogy kilenc férje volt\, hogy szép volt és gazdag\, hogy imádta a lovakat és a gyémántokat. És tudjuk\, hogy közel száz évig élt.\nDe tudjuk-e\, ki volt ő valójában?\nMi a titka a sikerének és halálán túl is tartó népszerűségének? Színésznő volt? Díva volt? Celeb volt? Boldog volt?\nA Spinoza Színház előadásában ZsaZsa önmaga keresi a választ\, őszinte szembenézéssel\, sajátságos humorával és utánozhatatlan stílusával\n.\nZsa Zsa szerepében: Létay Dóra\n.\nAlkotók:\nFény-hang design: Vizhányó Kálmán\nDíszlet: Czeizel Gábor\nDramaturg: Fabacsovics Lili\nÍrta: Ann Silberberg és Létay Dóra\nProducer: Sándor Anna\nRendezte: Czeizel Gábor\n \n. \n \nA fotók a színház oldaláról származnak:\n\n		\n		\n			\n				\n			\n			\n				\n			\n			\n				\n			\n			\n				\n			\n			\n				\n			\n			\n				\n			\n			\n				\n			\n			\n				\n			\n			\n		\n\n____________________________________________________________________________________________________________ \nMIKROFESZTIVÁL JEGYÁRKEDVEZMÉNY! \nSzabadon választott 5 felnőtt előadás ára: 32.500 Ft\nAz összes felnőtt előadás (10 előadás) megvásárlása esetén az ár: 63.000 Ft\n\n______________________________________________________________________________________________________________________________________________________________________________ \nA kedvezmények csak jegypénztárunkban vehetők igénybe\, online vásárlás esetén NEM! \n A műsorváltozás jogát fenntartjuk. \n \n\nMegvalósult a Nemzeti Kulturális Alap támogatásával\n_______________________________________________________________________________________________________________\n.\nÁLTALÁNOS TÁJÉKOZTATÓ:\nAz adott napi előadásra a kezdés előtti egy órában is vásárolhatnak jegyet a szabad helyek függvényében!\nA lefoglalt jegyeket a foglalástól számított két héten belül kérjük átvenni. Az át nem vett jegyeket felszabadítjuk!\nA későn érkező nézők csak a szünetben foglalhatják el helyüket.\nAz előadások ideje alatt mobiltelefonjaikat tartsák kikapcsolt állapotban!\nAz előadásokon kép- és hangfelvétel készítése engedély nélkül tilos!\nKérjük\, a nézőtéren mellőzék az étel és ital fogyasztást!.\n_______________________________________________________________________________________________________________
URL:https://bartokszinhaz.hu/esemeny/en-zsa-zsa/
LOCATION:Színházterem
CATEGORIES:mikrofesztivál,vendégjáték
ORGANIZER;CN="Bart%C3%B3k%20Szervez%C3%A9s":MAILTO:szervezes@bartokszinhaz.hu
END:VEVENT
END:VCALENDAR