BEGIN:VCALENDAR
VERSION:2.0
PRODID:-//Bartók Kamaraszínház Dunaújváros - ECPv5.8.2//NONSGML v1.0//EN
CALSCALE:GREGORIAN
METHOD:PUBLISH
X-WR-CALNAME:Bartók Kamaraszínház Dunaújváros
X-ORIGINAL-URL:https://bartokszinhaz.hu
X-WR-CALDESC:Events for Bartók Kamaraszínház Dunaújváros
BEGIN:VTIMEZONE
TZID:UTC
BEGIN:STANDARD
TZOFFSETFROM:+0000
TZOFFSETTO:+0000
TZNAME:UTC
DTSTART:20260101T000000
END:STANDARD
END:VTIMEZONE
BEGIN:VEVENT
DTSTART;TZID=UTC:20260604T170000
DTEND;TZID=UTC:20260604T190000
DTSTAMP:20260424T180517
CREATED:20260424T073135Z
LAST-MODIFIED:20260424T073135Z
UID:91908-1780592400-1780599600@bartokszinhaz.hu
SUMMARY:17.00 – Marsha Norman: JÓCCAKÁT\, ANYA / Bástya Színház / MIKRO Fesztivál 2026.
DESCRIPTION:Az előadást 16 éven felülieknek ajánljuk.\nHelyszín: Stúdióterem\nAz előadás időtartama: 100 perc szünet nélkül\nJegyár: 7000 Ft\nMarsha Norman\nJÓCCAKÁT\, ANYA\nA Bástya Színház előadása\n„Én öngyilkos leszek\, anya.” Ezzel a mondattal egy őszinte és zavarba ejtő beszélgetés veszi kezdetét anya és lánya között. Az est folyamán fény derül régi traumákra\, kimondatlan vágyakra és eltitkolt hazugságokra is\, közben pedig felszínre kerülnek azok a legmélyebben őrzött\, ellentmondásos érzelmek\, amelyek csakis szülő és gyermeke között feszülhetnek.\nMarsha Norman megrázó drámáját egy valódi anya-lánya páros adja elő a Bástya Színházban. Györgyi Anna és Kiss Anna Gizella megindító közös játéka megmutatja a nézőknek\, hogy milyen nehéz valóban őszintén odafordulnunk egymáshoz\, és hogy milyen fontos akkor is törekedni erre\, amikor úgy tűnik\, hogy már késő.\nAz előadás a Hofra Színházi és Irodalmi Ügynökség engedélyével jön létre. \nA produkció megtekintését 16 éven felülieknek ajánljuk!\n\nSzereplők:\nThelma Cates: Györgyi Anna\nJessie Cates: Kiss Anna Gizella\n\n.\nAlkotók:\nDramaturg: Cseh Dávid\nRendezőasszisztens\,\nKellék: Szitás Bernadett\nLátvány: Rákay Tamás\nSúgó: Juhász Gabriella\nRendező: Blaskó Borbála\n\nA grafika Blaskó Bence munkája.  \n. \n \nA fotó a színház oldaláról származnak:\n \n  \n____________________________________________________________________________________________________________ \nMIKROFESZTIVÁL JEGYÁRKEDVEZMÉNY! \nSzabadon választott 5 felnőtt előadás ára: 32.500 Ft\nAz összes felnőtt előadás (10 előadás) megvásárlása esetén az ár: 63.000 Ft\n\n______________________________________________________________________________________________________________________________________________________________________________ \nA kedvezmények csak jegypénztárunkban vehetők igénybe\, online vásárlás esetén NEM! \n A műsorváltozás jogát fenntartjuk. \n \n\nMegvalósult a Nemzeti Kulturális Alap támogatásával\n_______________________________________________________________________________________________________________\n.\nÁLTALÁNOS TÁJÉKOZTATÓ:\nAz adott napi előadásra a kezdés előtti egy órában is vásárolhatnak jegyet a szabad helyek függvényében!\nA lefoglalt jegyeket a foglalástól számított két héten belül kérjük átvenni. Az át nem vett jegyeket felszabadítjuk!\nA későn érkező nézők csak a szünetben foglalhatják el helyüket.\nAz előadások ideje alatt mobiltelefonjaikat tartsák kikapcsolt állapotban!\nAz előadásokon kép- és hangfelvétel készítése engedély nélkül tilos!\nKérjük\, a nézőtéren mellőzék az étel és ital fogyasztást!.\n_______________________________________________________________________________________________________________
URL:https://bartokszinhaz.hu/esemeny/joccakat-anya/
LOCATION:Stúdióterem
CATEGORIES:mikrofesztivál,vendégjáték
ORGANIZER;CN="Bart%C3%B3k%20Szervez%C3%A9s":MAILTO:szervezes@bartokszinhaz.hu
END:VEVENT
END:VCALENDAR