BEGIN:VCALENDAR
VERSION:2.0
PRODID:-//Bartók Kamaraszínház Dunaújváros - ECPv5.8.2//NONSGML v1.0//EN
CALSCALE:GREGORIAN
METHOD:PUBLISH
X-WR-CALNAME:Bartók Kamaraszínház Dunaújváros
X-ORIGINAL-URL:https://bartokszinhaz.hu
X-WR-CALDESC:Events for Bartók Kamaraszínház Dunaújváros
BEGIN:VTIMEZONE
TZID:UTC
BEGIN:STANDARD
TZOFFSETFROM:+0000
TZOFFSETTO:+0000
TZNAME:UTC
DTSTART:20260101T000000
END:STANDARD
END:VTIMEZONE
BEGIN:VEVENT
DTSTART;TZID=UTC:20260604T193000
DTEND;TZID=UTC:20260604T210000
DTSTAMP:20260424T180635
CREATED:20260424T073131Z
LAST-MODIFIED:20260424T073131Z
UID:91910-1780601400-1780606800@bartokszinhaz.hu
SUMMARY:19.30 – KÖTÉLEN A NIAGARA FÖLÖTT / Bartók Színház / MIKRO Fesztivál 2026.
DESCRIPTION:Helyszín: Színházterem stúdióelrendezés\nAz előadás időtartama: 90 perc szünet nélkül\nJegyár: 7000 Ft\nKÖTÉLEN A NIAGARA FÖLÖTT\n– Üzenet középkorú férfiaknak\, nyolc képben –\nA Bartók Színház előadása\n\nAlonso Alegria Kötélen a Niagara felett című művét átdolgozta: Irsai Farkas László\nVan\, amikor az élet egy vékony vonallá szűkül. Egy határ\, amely fölött már nincs biztos talaj\, csak a döntés és a bizalom marad. Egyensúlyozás látható és láthatatlan erők között\, ahol minden lépés egyszerre félelem és remény. Egy történet a határok megközelítéséről – és arról a pillanatról\, amikor az ember mégis továbbindul. Amikor nem a biztonság\, hanem a vágy\, a kíváncsiság vagy éppen a hit vezeti.\nCsendes\, belső mozdulatok rajzolódnak ki\, amelyekben mindannyian magunkra ismerhetünk. Az egyensúly keresése\, a bizonytalanság elfogadása\, a továbblépés bátorsága – ezekből a pillanatokból áll össze az az út\, amelyen mindannyian végigmegyünk. Legkésőbb az életünk felén…\nAz előadás támogatója: NKA \n\nSzereplők:\nBlondin – Seress Zoltán Jászai-díjas színművész\nCarlo – Kovács Dominik Róbert\nSportriporter\, tudósító – Hajdu B. István\n\n  \nAlkotók:\nLátvány: Katona Bálint\nHang: Szijj András\nKoreográfus: Szöllősi Krisztina\nZeneszerző: Tóth Péter Erkel-díjas\, Érdemes Művész\nRendező: Irsai Farkas László\n \n. \n \nFotó:\n  \n____________________________________________________________________________________________________________ \nMIKROFESZTIVÁL JEGYÁRKEDVEZMÉNY! \nSzabadon választott 5 felnőtt előadás ára: 32.500 Ft\nAz összes felnőtt előadás (10 előadás) megvásárlása esetén az ár: 63.000 Ft\n\n______________________________________________________________________________________________________________________________________________________________________________ \nA kedvezmények csak jegypénztárunkban vehetők igénybe\, online vásárlás esetén NEM! \n A műsorváltozás jogát fenntartjuk. \n \n\nMegvalósult a Nemzeti Kulturális Alap támogatásával\n_______________________________________________________________________________________________________________\n.\nÁLTALÁNOS TÁJÉKOZTATÓ:\nAz adott napi előadásra a kezdés előtti egy órában is vásárolhatnak jegyet a szabad helyek függvényében!\nA lefoglalt jegyeket a foglalástól számított két héten belül kérjük átvenni. Az át nem vett jegyeket felszabadítjuk!\nA későn érkező nézők csak a szünetben foglalhatják el helyüket.\nAz előadások ideje alatt mobiltelefonjaikat tartsák kikapcsolt állapotban!\nAz előadásokon kép- és hangfelvétel készítése engedély nélkül tilos!\nKérjük\, a nézőtéren mellőzék az étel és ital fogyasztást!.\n_______________________________________________________________________________________________________________
URL:https://bartokszinhaz.hu/esemeny/kotelen-a-niagara/
LOCATION:Színházterem
CATEGORIES:mikrofesztivál,vendégjáték
ORGANIZER;CN="Bart%C3%B3k%20Szervez%C3%A9s":MAILTO:szervezes@bartokszinhaz.hu
END:VEVENT
END:VCALENDAR